BEGIN:VCALENDAR
VERSION:2.0
PRODID:-//Welcome To Ely - ECPv6.15.20//NONSGML v1.0//EN
CALSCALE:GREGORIAN
METHOD:PUBLISH
X-ORIGINAL-URL:https://elynevada.net
X-WR-CALDESC:Events for Welcome To Ely
REFRESH-INTERVAL;VALUE=DURATION:PT1H
X-Robots-Tag:noindex
X-PUBLISHED-TTL:PT1H
BEGIN:VTIMEZONE
TZID:America/Los_Angeles
BEGIN:DAYLIGHT
TZOFFSETFROM:-0800
TZOFFSETTO:-0700
TZNAME:PDT
DTSTART:20230312T100000
END:DAYLIGHT
BEGIN:STANDARD
TZOFFSETFROM:-0700
TZOFFSETTO:-0800
TZNAME:PST
DTSTART:20231105T090000
END:STANDARD
BEGIN:DAYLIGHT
TZOFFSETFROM:-0800
TZOFFSETTO:-0700
TZNAME:PDT
DTSTART:20240310T100000
END:DAYLIGHT
BEGIN:STANDARD
TZOFFSETFROM:-0700
TZOFFSETTO:-0800
TZNAME:PST
DTSTART:20241103T090000
END:STANDARD
BEGIN:DAYLIGHT
TZOFFSETFROM:-0800
TZOFFSETTO:-0700
TZNAME:PDT
DTSTART:20250309T100000
END:DAYLIGHT
BEGIN:STANDARD
TZOFFSETFROM:-0700
TZOFFSETTO:-0800
TZNAME:PST
DTSTART:20251102T090000
END:STANDARD
BEGIN:DAYLIGHT
TZOFFSETFROM:-0800
TZOFFSETTO:-0700
TZNAME:PDT
DTSTART:20260308T100000
END:DAYLIGHT
BEGIN:STANDARD
TZOFFSETFROM:-0700
TZOFFSETTO:-0800
TZNAME:PST
DTSTART:20261101T090000
END:STANDARD
BEGIN:DAYLIGHT
TZOFFSETFROM:-0800
TZOFFSETTO:-0700
TZNAME:PDT
DTSTART:20270314T100000
END:DAYLIGHT
BEGIN:STANDARD
TZOFFSETFROM:-0700
TZOFFSETTO:-0800
TZNAME:PST
DTSTART:20271107T090000
END:STANDARD
END:VTIMEZONE
BEGIN:VTIMEZONE
TZID:UTC
BEGIN:STANDARD
TZOFFSETFROM:+0000
TZOFFSETTO:+0000
TZNAME:UTC
DTSTART:20210101T000000
END:STANDARD
END:VTIMEZONE
BEGIN:VEVENT
DTSTART;VALUE=DATE:20260413
DTEND;VALUE=DATE:20260421
DTSTAMP:20260423T184901
CREATED:20260127T180710Z
LAST-MODIFIED:20260127T180710Z
UID:10004123-1776038400-1776729599@elynevada.net
SUMMARY:International Dark Sky Week 2026
DESCRIPTION:Celebrate International Dark Sky Week in White Pine County!
URL:https://elynevada.net/event/international-dark-sky-week-2026/
CATEGORIES:Stargazing
ATTACH;FMTTYPE=image/jpeg:https://elynevada.net/wp-content/uploads/2018/06/great-basin-national-park-dark-skies_29451928851_o.jpg
END:VEVENT
BEGIN:VEVENT
DTSTART;VALUE=DATE:20260302
DTEND;VALUE=DATE:20260303
DTSTAMP:20260423T184901
CREATED:20260127T001540Z
LAST-MODIFIED:20260127T001540Z
UID:10004119-1772409600-1772495999@elynevada.net
SUMMARY:Anniversary of WPC
DESCRIPTION:Anniversary of White Pine County\nIt’s White Pine County’s Birthday Month! In March of 1869\, this area of Nevada was officially established by the state legislature. Happy Birthday White Pine!
URL:https://elynevada.net/event/anniversary-of-wpc/
CATEGORIES:History
ATTACH;FMTTYPE=image/jpeg:https://elynevada.net/wp-content/uploads/2025/01/Happy-Birthday-White-Pine-County-2025.jpg
END:VEVENT
BEGIN:VEVENT
DTSTART;TZID=America/Los_Angeles:20250421T180000
DTEND;TZID=America/Los_Angeles:20250422T060000
DTSTAMP:20260423T184901
CREATED:20220125T075403Z
LAST-MODIFIED:20250128T191530Z
UID:10000147-1745258400-1745301600@elynevada.net
SUMMARY:Lyrids Meteor Shower
DESCRIPTION:Lyrids Meteor Shower
URL:https://elynevada.net/event/lyrids-meteor-shower/
LOCATION:Above Our Flat Earth\, Parallel\, Straight\, 0000
CATEGORIES:Stargazing
ATTACH;FMTTYPE=image/png:https://elynevada.net/wp-content/uploads/2022/01/Meteor-Shower-Bitches.png
END:VEVENT
BEGIN:VEVENT
DTSTART;VALUE=DATE:20250421
DTEND;VALUE=DATE:20250429
DTSTAMP:20260423T184901
CREATED:20220125T071610Z
LAST-MODIFIED:20250128T182544Z
UID:10000423-1745193600-1745884799@elynevada.net
SUMMARY:International Dark Sky Week
DESCRIPTION:Celebrate International Dark Sky Week in White Pine County!
URL:https://elynevada.net/event/international-dark-sky-week/
CATEGORIES:Arts & Culture
ATTACH;FMTTYPE=image/jpeg:https://elynevada.net/wp-content/uploads/2022/01/212083571_4545912028787419_1340604410860963186_n.jpg
END:VEVENT
BEGIN:VEVENT
DTSTART;TZID=America/Los_Angeles:20250102T000000
DTEND;TZID=America/Los_Angeles:20250103T233000
DTSTAMP:20260423T184901
CREATED:20241205T012530Z
LAST-MODIFIED:20241205T012531Z
UID:10003081-1735776000-1735947000@elynevada.net
SUMMARY:Quadrantids Meteor Shower
DESCRIPTION:Quadrantids Meteor Shower
URL:https://elynevada.net/event/quadrantids-meteor-shower/
LOCATION:Above Our Flat Earth\, Parallel\, Straight\, 0000
CATEGORIES:Arts & Culture
ATTACH;FMTTYPE=image/png:https://elynevada.net/wp-content/uploads/2022/01/Meteor-Shower-Bitches.png
END:VEVENT
BEGIN:VEVENT
DTSTART;TZID=UTC:20240730T180000
DTEND;TZID=UTC:20240731T060000
DTSTAMP:20260423T184901
CREATED:20220126T055633Z
LAST-MODIFIED:20240130T084032Z
UID:10000187-1722362400-1722405600@elynevada.net
SUMMARY:Delta Aquarids Meteor Shower
DESCRIPTION:Delta Aquarids Meteor Shower
URL:https://elynevada.net/event/delta-aquarids-meteor-shower/
LOCATION:Above Our Flat Earth\, Parallel\, Straight\, 0000
CATEGORIES:Arts & Culture
ATTACH;FMTTYPE=image/png:https://elynevada.net/wp-content/uploads/2022/01/Meteor-Shower-Bitches.png
END:VEVENT
BEGIN:VEVENT
DTSTART;TZID=America/Los_Angeles:20240504T120100
DTEND;TZID=America/Los_Angeles:20240504T120100
DTSTAMP:20260423T184901
CREATED:20220125T092523Z
LAST-MODIFIED:20240321T225031Z
UID:10000149-1714824060-1714824060@elynevada.net
SUMMARY:Eta Aquarids Meteor Shower
DESCRIPTION:Eta Aquarids Meteor Shower
URL:https://elynevada.net/event/eta-aquarids-meteor-shower/
CATEGORIES:Arts & Culture
ATTACH;FMTTYPE=image/png:https://elynevada.net/wp-content/uploads/2022/01/Meteor-Shower-Bitches.png
END:VEVENT
BEGIN:VEVENT
DTSTART;VALUE=DATE:20230811
DTEND;VALUE=DATE:20230814
DTSTAMP:20260423T184901
CREATED:20220126T060259Z
LAST-MODIFIED:20240131T052216Z
UID:10000188-1691712000-1691971199@elynevada.net
SUMMARY:Perseids Meteor Shower
DESCRIPTION:Perseids Meteor Shower
URL:https://elynevada.net/event/perseids-meteor-shower/
LOCATION:Above Our Flat Earth\, Parallel\, Straight\, 0000
CATEGORIES:Arts & Culture
ATTACH;FMTTYPE=image/png:https://elynevada.net/wp-content/uploads/2022/01/Meteor-Shower-Bitches.png
END:VEVENT
BEGIN:VEVENT
DTSTART;TZID=UTC:20220516T203000
DTEND;TZID=UTC:20220516T230000
DTSTAMP:20260423T184901
CREATED:20220125T094402Z
LAST-MODIFIED:20220125T094403Z
UID:10000150-1652733000-1652742000@elynevada.net
SUMMARY:Total Lunar Eclipse
DESCRIPTION:Total Lunar Eclipse
URL:https://elynevada.net/event/total-lunar-eclipse/
LOCATION:Above Our Flat Earth\, Parallel\, Straight\, 0000
CATEGORIES:Arts & Culture
ATTACH;FMTTYPE=image/png:https://elynevada.net/wp-content/uploads/2022/01/Lunar-Eclipse.png
END:VEVENT
END:VCALENDAR