BEGIN:VCALENDAR
VERSION:2.0
PRODID:-//Welcome To Ely - ECPv6.15.20//NONSGML v1.0//EN
CALSCALE:GREGORIAN
METHOD:PUBLISH
X-ORIGINAL-URL:https://elynevada.net
X-WR-CALDESC:Events for Welcome To Ely
REFRESH-INTERVAL;VALUE=DURATION:PT1H
X-Robots-Tag:noindex
X-PUBLISHED-TTL:PT1H
BEGIN:VTIMEZONE
TZID:America/Los_Angeles
BEGIN:DAYLIGHT
TZOFFSETFROM:-0800
TZOFFSETTO:-0700
TZNAME:PDT
DTSTART:20230312T100000
END:DAYLIGHT
BEGIN:STANDARD
TZOFFSETFROM:-0700
TZOFFSETTO:-0800
TZNAME:PST
DTSTART:20231105T090000
END:STANDARD
BEGIN:DAYLIGHT
TZOFFSETFROM:-0800
TZOFFSETTO:-0700
TZNAME:PDT
DTSTART:20240310T100000
END:DAYLIGHT
BEGIN:STANDARD
TZOFFSETFROM:-0700
TZOFFSETTO:-0800
TZNAME:PST
DTSTART:20241103T090000
END:STANDARD
BEGIN:DAYLIGHT
TZOFFSETFROM:-0800
TZOFFSETTO:-0700
TZNAME:PDT
DTSTART:20250309T100000
END:DAYLIGHT
BEGIN:STANDARD
TZOFFSETFROM:-0700
TZOFFSETTO:-0800
TZNAME:PST
DTSTART:20251102T090000
END:STANDARD
END:VTIMEZONE
BEGIN:VTIMEZONE
TZID:UTC
BEGIN:STANDARD
TZOFFSETFROM:+0000
TZOFFSETTO:+0000
TZNAME:UTC
DTSTART:20210101T000000
END:STANDARD
END:VTIMEZONE
BEGIN:VEVENT
DTSTART;VALUE=DATE:20240530
DTEND;VALUE=DATE:20240602
DTSTAMP:20260425T063126
CREATED:20230124T060619Z
LAST-MODIFIED:20240321T225555Z
UID:10000537-1717027200-1717286399@elynevada.net
SUMMARY:Schellraiser Music Festival 2024
DESCRIPTION:Schellraiser Music Festival 2024\nThe Schellraiser Music Festival is the biggest music event this side of Fallon. Schellraiser Music Festival 2024 is full\, three-day festival with over 30 musical acts from all over the country. \nSchellraiser crosses multiple genres for music everyone can love. \nCheck out this year's amazing lineup HERE!\nFind Lodging for This Year's Music Festival HERE!\nPer Schellraiser: \nSchellraiser was born in the cool\, high desert of Eastern Nevada’s Steptoe Valley\, three hours from Salt Lake City. \nWe’re about as far away from mainstream tastemakers and trendsetters as you can get — geographically\, philosophically and sonically — and our lineup reflects our love of alternative and independent music\, from country to cumbia\, punk to pop and soul to psychedelia. We’re equally far removed from the stresses and strains of urban life: Our venue sits next to some of the largest natural warm springs in the Great Basin\, surrounded by high mountains and some of America’s most pristine wilderness areas. \nFirst-year headliners the Old 97’s front man Rhett Miller said that this music festival is the best-crated one that he’s ever seen. The Moving Panoramas agreed by calling Schellraiser “an amazingly curated bill in a very special\, rare setting.” \nSchellraiser’s home base of McGill is an old mining company town in the shadows of Nevada’s longest mountain range — the Schell Creeks — which rise more than two miles above sea level just to our east. We’re minutes away from the High Schells and Bristlecone wildernesses\, and within an hour’s drive of nearly a dozen other designated wilderness areas.
URL:https://elynevada.net/event/schellraiser-music-festival-2023/
LOCATION:McGill Pool Park\, 5535 North McGill Highway\, McGill\, NV\, 89318\, United States
CATEGORIES:Arts & Culture,Community,History
ATTACH;FMTTYPE=image/png:https://elynevada.net/wp-content/uploads/2023/01/Schellraiser-Music-Festival.png
ORGANIZER;CN="Middle of Everywhere":MAILTO:https://m.me/104506860953168?fbclid=IwAR2-YiQ62aa-wzko87QDaqqW1yfecknDwMUelIbYrBvWzrSSPHMpKrExlrE
END:VEVENT
BEGIN:VEVENT
DTSTART;TZID=America/Los_Angeles:20240427T190000
DTEND;TZID=America/Los_Angeles:20240427T210000
DTSTAMP:20260425T063126
CREATED:20240402T194000Z
LAST-MODIFIED:20240402T194001Z
UID:10002531-1714244400-1714251600@elynevada.net
SUMMARY:Schellraiser Pre-Party with Spike McGuire in Baker
DESCRIPTION:Schellraiser Pre-Party with Spike McGuire in Baker\nCome get hyped up for Schellraiser Music Festival at our Preparty event in Baker\, Nevada Saturday\, April 27th! \nMusic at 7pm – All Ages Welcome – Free Event!\n@ Bristlecone General Store – 115 S. Baker Ave\, Baker\, NV \nFeaturing live music by Spike McGuire; coming all the way from western Nevada to entertain us with his folk music magic!\nFood and drinks available at The Bristlecone General Store. \nMake it a full weekend of fun and explore what Great Basin National Park (only a 5 minute drive from Baker) has to offer! Stay at one of the inn’s or camp out at one of the many camp grounds! \nFor camping and lodging information please go\nhttps://www.greatbasinpark.com/where-to-stay \nAbout Spike\nSpike McGuire is an internationally touring musician that has performed in 16 states and 5 countries as well as a GraphTech Guitar Labs endorsed. He is known for his work as founder of Loud As Folk. On the rich spectrum of folk music McGuire resides decidedly closer to Pete Seger than Peter\, Paul\, and Mary and has spent the last decade and a half drawing parallels between the ethos of punk rock and the spirit of folk music by building community and engaging listeners with his message. The lessons McGuire learned on the road now serve him well in his position of Executive Director at Brewery Arts Center in Carson City\, NV.
URL:https://elynevada.net/event/schellraiser-pre-party-with-spike-mcguire-in-baker/
LOCATION:Bristlecone General Store\, 115 S. Baker Ave.\, Baker\, NV\, 89311\, United States
CATEGORIES:Arts & Culture,Concert
ATTACH;FMTTYPE=image/png:https://elynevada.net/wp-content/uploads/2024/04/Pre-Party-Spike_IGflyer.png
ORGANIZER;CN="Middle of Everywhere":MAILTO:https://m.me/104506860953168?fbclid=IwAR2-YiQ62aa-wzko87QDaqqW1yfecknDwMUelIbYrBvWzrSSPHMpKrExlrE
END:VEVENT
BEGIN:VEVENT
DTSTART;TZID=UTC:20230120T170000
DTEND;TZID=UTC:20230120T180000
DTSTAMP:20260425T063126
CREATED:20230119T073314Z
LAST-MODIFIED:20230119T073320Z
UID:10000328-1674234000-1674237600@elynevada.net
SUMMARY:McGill Theater Marquee Lighting Ceremony
DESCRIPTION:McGill Theater Marquee Lighting Ceremony\nWe’ll plan on seeing you in McGill at the historical theater for the McGill Theater Marquee Lighting Ceremony. \nThe new marquee that now is positioned on the front of the McGill Theater was officially put up back in August\, 2022. It has yet to have a proper celebratory lighting! That is\, until January 20\, 2023 at 5:00 p.m. \nIf anyone is interested (because we can be sure that it will be freezing but exciting) the owner of the building will be giving a tour of the theater afterwards. \nThis is for all those interested in seeing the theater and the current progress of the renovation. \nExciting times to be in McGill!
URL:https://elynevada.net/event/mcgill-theater-marquee-lighting-ceremony/
LOCATION:McGill Theater\, Main Street (Hwy 50)\, McGill\, NV\, 89318\, United States
CATEGORIES:Arts & Culture,Community
ATTACH;FMTTYPE=image/jpeg:https://elynevada.net/wp-content/uploads/2023/01/McGill-Theater-Marquee.jpg
ORGANIZER;CN="Middle of Everywhere":MAILTO:https://m.me/104506860953168?fbclid=IwAR2-YiQ62aa-wzko87QDaqqW1yfecknDwMUelIbYrBvWzrSSPHMpKrExlrE
END:VEVENT
BEGIN:VEVENT
DTSTART;TZID=UTC:20220602T140000
DTEND;TZID=UTC:20220605T223000
DTSTAMP:20260425T063126
CREATED:20200602T052527Z
LAST-MODIFIED:20210825T061724Z
UID:10000077-1654178400-1654468200@elynevada.net
SUMMARY:Schellraiser 2022 Music Festival
DESCRIPTION:Schellraiser 2022 Music Festival\nOver Eighteen bands. Four days. The Schellraiser 2022 Music Festival brings musical acts from as far away as Philadelphia\, Dallas\, Minneapolis\, Los Angeles\, New Orleans and beyond to the McGill Pool Park this September to raise money for the nonprofit Nevada Northern Railway’s McGill Depot and McGill track restoration projects. Full lineup and more details COMING SOON! \nDiscover More Things To Do in White Pine County By Clicking HERE!
URL:https://elynevada.net/event/schellraiser-2020-music-festival/
LOCATION:McGill Pool Park\, 5535 North McGill Highway\, McGill\, NV\, 89318\, United States
CATEGORIES:Arts & Culture,Community
ATTACH;FMTTYPE=image/jpeg:https://elynevada.net/wp-content/uploads/2020/06/92492178_245887643481755_1426693397342584832_o-scaled.jpg
ORGANIZER;CN="Middle of Everywhere":MAILTO:https://m.me/104506860953168?fbclid=IwAR2-YiQ62aa-wzko87QDaqqW1yfecknDwMUelIbYrBvWzrSSPHMpKrExlrE
END:VEVENT
END:VCALENDAR