BEGIN:VCALENDAR
VERSION:2.0
PRODID:-//Welcome To Ely - ECPv6.15.20//NONSGML v1.0//EN
CALSCALE:GREGORIAN
METHOD:PUBLISH
X-ORIGINAL-URL:https://elynevada.net
X-WR-CALDESC:Events for Welcome To Ely
REFRESH-INTERVAL;VALUE=DURATION:PT1H
X-Robots-Tag:noindex
X-PUBLISHED-TTL:PT1H
BEGIN:VTIMEZONE
TZID:America/Los_Angeles
BEGIN:DAYLIGHT
TZOFFSETFROM:-0800
TZOFFSETTO:-0700
TZNAME:PDT
DTSTART:20250309T100000
END:DAYLIGHT
BEGIN:STANDARD
TZOFFSETFROM:-0700
TZOFFSETTO:-0800
TZNAME:PST
DTSTART:20251102T090000
END:STANDARD
BEGIN:DAYLIGHT
TZOFFSETFROM:-0800
TZOFFSETTO:-0700
TZNAME:PDT
DTSTART:20260308T100000
END:DAYLIGHT
BEGIN:STANDARD
TZOFFSETFROM:-0700
TZOFFSETTO:-0800
TZNAME:PST
DTSTART:20261101T090000
END:STANDARD
BEGIN:DAYLIGHT
TZOFFSETFROM:-0800
TZOFFSETTO:-0700
TZNAME:PDT
DTSTART:20270314T100000
END:DAYLIGHT
BEGIN:STANDARD
TZOFFSETFROM:-0700
TZOFFSETTO:-0800
TZNAME:PST
DTSTART:20271107T090000
END:STANDARD
END:VTIMEZONE
BEGIN:VEVENT
DTSTART;TZID=America/Los_Angeles:20260428T180000
DTEND;TZID=America/Los_Angeles:20260428T210000
DTSTAMP:20260423T130103
CREATED:20260127T023959Z
LAST-MODIFIED:20260323T182423Z
UID:10004122-1777399200-1777410000@elynevada.net
SUMMARY:White Pine Arts Impact Roundtable
DESCRIPTION:White Pine Arts Impact Roundtable\nThis year\, we will be hosting our first convening of arts enthusiasts\, organizations\, and businesses. Get together with several like-minded groups/community members who adore White Pine County’s arts assets. Share who you are\, what you do\, and discover what’s to come in White Pine’s arts. \n6:00PM at the Bristlecone Convention Center \nFood and Drinks Will Be Provided \nWe’ll see you here for the Convening of Arts Organizations and Businesses!
URL:https://elynevada.net/event/white-pine-arts-impact-roundtable/
LOCATION:Bristlecone Convention Center\, 150 Sixth Street\, Ely\, NV\, 89301\, United States
CATEGORIES:Arts & Culture,Community,Conference
ATTACH;FMTTYPE=image/png:https://elynevada.net/wp-content/uploads/2026/01/Arts-Roundtable-Meeting_Caroline-1.png
ORGANIZER;CN="White PIne County Tourism and Recreation":MAILTO:nicole.collard@elynevada.net
END:VEVENT
BEGIN:VEVENT
DTSTART;TZID=America/Los_Angeles:20260530T170000
DTEND;TZID=America/Los_Angeles:20260530T200000
DTSTAMP:20260423T130103
CREATED:20230119T081806Z
LAST-MODIFIED:20260403T223427Z
UID:10000331-1780160400-1780171200@elynevada.net
SUMMARY:RMEF Ely Chapter Banquet
DESCRIPTION:RMEF Ely Chapter Banquet\nHelp celebrate the Rocky Mountain Elk Foundation’s the biggest night of the year for elk country supporters! Great friends and by giving back to Elk Country. \nPlease join us for a Rocky Mountain Elk Foundation Big Game Banquet in the heart of Nevada elk country. \nThis will be a great night for a greater cause. \nYour attendance will help to ensure the future of elk\, other wildlife\, their habitat and our hunting heritage here in our great state! \nTickets are available online at Rocky Mountain Elk Foundation HERE!
URL:https://elynevada.net/event/ely-nevada-big-game-banquet/
LOCATION:Bristlecone Convention Center\, 150 Sixth Street\, Ely\, NV\, 89301\, United States
CATEGORIES:Community,History,Sports
ATTACH;FMTTYPE=image/jpeg:https://elynevada.net/wp-content/uploads/2023/01/RMEF-Ely-Chapter-Banquet.jpg
ORGANIZER;CN="Rocky Mountain Elk Foundation":MAILTO:lsmith@rmef.org
END:VEVENT
BEGIN:VEVENT
DTSTART;TZID=America/Los_Angeles:20260626T160000
DTEND;TZID=America/Los_Angeles:20260626T200000
DTSTAMP:20260423T130103
CREATED:20240321T190704Z
LAST-MODIFIED:20260106T174236Z
UID:10004075-1782489600-1782504000@elynevada.net
SUMMARY:Bristlecone Bricks and Train Show
DESCRIPTION:Bristlecone Bricks and Train Show\nThe 6th Annual Bristlecone Bricks and Train Show is coming to Ely! \nAs a community event you are invited to view displays from fans of LEGO bricks and Model Railroad Groups\, built by individuals and clubs. Hundreds of square feet of model railroad displays and complementary layouts containing thousands of LEGO bricks\, will amaze you and your children. Creations\, layouts and displays from kids to kid-at-heart adults will thrill your eyes. \nCome play and display with us. Bring the family and enjoy all of White Pine County. Explore all the beauty\, excitement\, wide open spaces and history of the Great Basin’s untrammeled wilderness. \nShow admission is FREE! \nLearn More About Bristlecone Bricks at Their Website HERE!\nLodging Options in White Pine County HERE!
URL:https://elynevada.net/event/bristlecone-bricks-and-train-show-2/2026-06-26/
LOCATION:Bristlecone Convention Center\, 150 Sixth Street\, Ely\, NV\, 89301\, United States
CATEGORIES:Arts & Culture,Community
ORGANIZER;CN="Bristlecone Bricks":MAILTO:show@bristleconebricks.com
END:VEVENT
BEGIN:VEVENT
DTSTART;TZID=America/Los_Angeles:20260627T100000
DTEND;TZID=America/Los_Angeles:20260627T180000
DTSTAMP:20260423T130103
CREATED:20240321T190704Z
LAST-MODIFIED:20260106T174236Z
UID:10004076-1782554400-1782583200@elynevada.net
SUMMARY:Bristlecone Bricks and Train Show
DESCRIPTION:Bristlecone Bricks and Train Show\nThe 6th Annual Bristlecone Bricks and Train Show is coming to Ely! \nAs a community event you are invited to view displays from fans of LEGO bricks and Model Railroad Groups\, built by individuals and clubs. Hundreds of square feet of model railroad displays and complementary layouts containing thousands of LEGO bricks\, will amaze you and your children. Creations\, layouts and displays from kids to kid-at-heart adults will thrill your eyes. \nCome play and display with us. Bring the family and enjoy all of White Pine County. Explore all the beauty\, excitement\, wide open spaces and history of the Great Basin’s untrammeled wilderness. \nShow admission is FREE! \nLearn More About Bristlecone Bricks at Their Website HERE!\nLodging Options in White Pine County HERE!
URL:https://elynevada.net/event/bristlecone-bricks-and-train-show-2/2026-06-27/
LOCATION:Bristlecone Convention Center\, 150 Sixth Street\, Ely\, NV\, 89301\, United States
CATEGORIES:Arts & Culture,Community
ORGANIZER;CN="Bristlecone Bricks":MAILTO:show@bristleconebricks.com
END:VEVENT
END:VCALENDAR