BEGIN:VCALENDAR
VERSION:2.0
PRODID:-//Welcome To Ely - ECPv6.15.20//NONSGML v1.0//EN
CALSCALE:GREGORIAN
METHOD:PUBLISH
X-ORIGINAL-URL:https://elynevada.net
X-WR-CALDESC:Events for Welcome To Ely
REFRESH-INTERVAL;VALUE=DURATION:PT1H
X-Robots-Tag:noindex
X-PUBLISHED-TTL:PT1H
BEGIN:VTIMEZONE
TZID:UTC
BEGIN:STANDARD
TZOFFSETFROM:+0000
TZOFFSETTO:+0000
TZNAME:UTC
DTSTART:20190101T000000
END:STANDARD
END:VTIMEZONE
BEGIN:VEVENT
DTSTART;VALUE=DATE:20210612
DTEND;VALUE=DATE:20210613
DTSTAMP:20260424T173930
CREATED:20210312T032452Z
LAST-MODIFIED:20210325T014226Z
UID:10000386-1623456000-1623542399@elynevada.net
SUMMARY:Fears\, Tears\, and Beers 2021
DESCRIPTION:Fears\, Tears\, and Beers 2021\n*Fears\, Tears\, and Beers 2021 is committed to taking any and all necessary steps to maintain the health and safety of both our Guests and Team Members* \nFor Our Operating Plan and Safety Measures for Covid-19 Click HERE\nFears\, Tears\, and Beers 2021 is the enduro format mountain bike event of the season! Pedal your bike to the top of the mountain and then you are timed at specific sections of the course. There will be 2-6 timed sections\, mostly twisty downhills and sprint sections. The sum of the times on these special tests will determine the winner.\n\nThe event takes place on BLM and USFS administered lands under special use permits.\n\nMen’s and women’s events for all classes.\n\nFun Run: Shorter in length and less climbing than the beginner class\, 2 timed sections\nBeginner Class: 17.5 miles\, 2\,300′ elevation gain\, 3 timed sections\nSport Class: 26.6 miles\, 3\,500′ elevation gain\, 4 timed sections\nExpert/Pro Class: 33.3 miles\, 5\,400′ elevation gain\, 6 timed sections\nBe prepared for the weather. We have had everything from hot and sunny to very wet and snowing. \nAfter-party/awards ceremony at Bristlecone Convention Center\nRacers eat free\, others will need purchase wristband for $10.\n\nThe event is also great for visitors. Music and celebrating all day at Broadbent Park. Bring your binoculars and lawn chairs to watch the Expert and Pro classes take on the final downhill timed section.\n\nJune 12th – Check in begins at 8:00 a.m. Races start 9 a.m.\nFun Ride\, Beginners\, Sport\, Expert and Pro\n1st 2nd and 3rd awarded in each class\nContact Kent Robertson-(775-289-6042) or Kelly Ernest-(775-296-0910) for more information. \nStay updated by following us on Facebook HERE!\nLearn more and register for the event HERE!
URL:https://elynevada.net/event/fears-tears-and-beers-2021/
LOCATION:Ely\, NV\, 89301\, United States
CATEGORIES:History,Races,Sports
ATTACH;FMTTYPE=image/jpeg:https://elynevada.net/wp-content/uploads/2021/03/sagag.jpg
ORGANIZER;CN="Great Basin Trails Stewardship":MAILTO:krobeg@mwpower.net
END:VEVENT
BEGIN:VEVENT
DTSTART;TZID=UTC:20210312T173000
DTEND;TZID=UTC:20210314T160000
DTSTAMP:20260424T173930
CREATED:20210209T035211Z
LAST-MODIFIED:20210209T035613Z
UID:10000378-1615570200-1615737600@elynevada.net
SUMMARY:Ely Virtual Film Festival 2021
DESCRIPTION:Ely Virtual Film Festival 2021\nEly’s second annual film festival takes place March 12-14\, 2021 and has gone virtual! Celebrating Ely’s rich film history\, this annual event will showcase the cinematic creations that were filmed here over the years. The film festival also gives attendees the chance to meet the directors and crew and engage in discussion about those films. Local and amateur directors are encouraged to submit their short film to be incorporated into the festival. Locations include the beautiful historic Ely Central Theater\, The Postal Palace\, and the Bristlecone Convention Center. \n \nFriday\, March 12th\, 2021\n5:30-6:00pm: Opening Celebration and Virtual Cocktail Party\nOn-line participation via Zoom Facebook\, and Instagram. Attendees will be sent the recipe for the signature drink\, “Starry Night\,” and be eligible to win tickets to next year’s festival!\n\n6:00-7:30pm: Feature Presentation: Spirit of Nevada\nSamantha Chian and David Purdy\, host and producers of the television show\, Spirit of Nevada\, share their episodes and experiences of visiting the people and places in Ely and the surrounding area.\n\n–\nSaturday\, March 13th\, 2021\n2:00-3:30pm: 2nd Annual Short Film Contest\nYou’ll have a front row seat as the judges announce the winners and show this year’s locally produced short films.\n\n4:30-5:30pm: Panel Discussion: Film Editing and Location\nFilm Industry professionals discuss how important film editing is to the final product and how Ely is an important location for their work. A live moderated Q&A will follow.\n\n 4:30-5:30pm: Feature Film and World Premiere Presentation: Horror in the High Desert\nIntroduction by local filmmaker Dutch Marich\, a post-screening conversation with Dutch and cast\, followed by alive moderated Q&A.\n\n–\nSunday\, March 14th\, 2021\n10:00-11am: Nevada Northern Railway Retrospective\nCelebrate the movies\, advertisements and music videos that have been filmed at Ely’s historic and iconic location.\n\n11:15am-12:30pm: Presentation: Elvis\, Marilyn\, and Space Aliens\nRobin Holabird\, author\, critic and former Deputy Director of the Nevada Film Commission gives us the inside scoop on films made in Nevada\n\n2:30-4:00pm: Encore Presentation: Horror in the High Desert\n\nTickets and Passes\nVirtual Festival Pass $25\n“First 100” VIP Pass $100\nTickets and Passes Can Be Found HERE!\nDiscover More Events in White Pine County HERE!\nEly Virtual Film Festival Poster
URL:https://elynevada.net/event/ely-virtual-film-festival-2021/
LOCATION:Ely\, NV\, 89301\, United States
CATEGORIES:Arts & Culture
ATTACH;FMTTYPE=image/jpeg:https://elynevada.net/wp-content/uploads/2019/10/FILM_FEST_LOGO_FINAL_RED_LARGE.jpg
END:VEVENT
BEGIN:VEVENT
DTSTART;VALUE=DATE:20200926
DTEND;VALUE=DATE:20200927
DTSTAMP:20260424T173930
CREATED:20200109T050724Z
LAST-MODIFIED:20200903T014305Z
UID:10000062-1601078400-1601164799@elynevada.net
SUMMARY:Fears\, Tears\, and Beers 2020
DESCRIPTION:Fears\,Tears\, and Beers 2020\nThis event is committed to taking any and all necessary steps to maintain the health and safety of both our Guests and Team Members.\nFor Our Operating Plan and Safety Measures for Covid-19 Click HERE\nFears\, Tears\, and Beers 2020 is the enduro format mountain bike event of the season! Pedal your bike to the top of the mountain and then you are timed at specific sections of the course. There will be 2-6 timed sections\, mostly twisty downhills and sprint sections. The sum of the times on these special tests will determine the winner.\n\nThe event takes place on BLM and USFS administered lands under special use permits.\n\nMen’s and women’s events for all classes.\n\nFun Run: Shorter in length and less climbing than the beginner class\, 2 timed sections\nBeginner Class: 17.5 miles\, 2\,300′ elevation gain\, 3 timed sections\nSport Class: 26.6 miles\, 3\,500′ elevation gain\, 4 timed sections\nExpert/Pro Class: 33.3 miles\, 5\,400′ elevation gain\, 6 timed sections\nBe prepared for the weather. We have had everything from hot and sunny to very wet and snowing. \nAfter-party/awards ceremony at Bristlecone Convention Center\nRacers eat free\, others will need purchase wristband for $10.\n\nThe event is also great for visitors. Music and celebrating all day at Broadbent Park. Bring your binoculars and lawn chairs to watch the Expert and Pro classes take on the final downhill timed section.\n\nSept. 26th – Check in begins at 8:00 a.m. Races start 9 a.m.\nFun Ride\, Beginners\, Sport\, Expert and Pro\n1st 2nd and 3rd awarded in each class\nContact Kent Robertson-(775-289-6042) or Kelly Ernest-(775-296-0910) for more information \nCheck for updates by Liking and Following our Facebook or by clicking here! \nFear\, Tears\, and Beers 2020 Poster
URL:https://elynevada.net/event/fears-tears-and-beers-2/
LOCATION:Ely\, NV\, 89301\, United States
CATEGORIES:History,Races,Sports
ATTACH;FMTTYPE=image/jpeg:https://elynevada.net/wp-content/uploads/2018/06/PJ_Y4Q7213-500x339.jpg
ORGANIZER;CN="Great Basin Trails Stewardship":MAILTO:krobeg@mwpower.net
END:VEVENT
BEGIN:VEVENT
DTSTART;VALUE=DATE:20200918
DTEND;VALUE=DATE:20200921
DTSTAMP:20260424T173930
CREATED:20200530T010912Z
LAST-MODIFIED:20200805T060320Z
UID:10000344-1600387200-1600646399@elynevada.net
SUMMARY:Silver State Classic Challenge - 2020
DESCRIPTION:Cancelled\nFor the past three decades\, driving enthusiasts from around the world have gathered in September of the Nevada high desert for the running of the ultimate automotive event: The Silver State Classic Challenge! Their amazing journey traverses 90 to 120 miles of closed\, two-lane public highway\, comprised of long fast straights\, sweeping corners\, blind dips\, even carving through a twisty canyon. The current course record stands at 219.6430 mph average speed\, as recognized by the Guinness Book of World Records. The best part is\, if you’ve got the nerve\, a little cash\, and a fast ride\, you too can join them to run as fast as you can\, legally\, down a public highway. Welcome to the Silver State Classic Challenge! \nThe Silver State Classic Challenge\, Inc. is a non-profit corporation with a dedicated volunteer Board of Directors and staff who annually host the Nevada Open Road Challenge and Silver State Classic Challenge. Open Road Racing events on a closed section of Nevada State Highway 318\, renamed by the Nevada Department of Transportation as the Silver State Classic Challenge Highway. \nSilver State Classic Challenge offers two completely different types of Open Road Racing event formats. The NORC in May is a two-way event\, totaling 119.78 miles (59.89 each way)\, with a weekend packed full of gearhead activities\, and an awards banquet after-party held in the charming\, rustic mining town of Ely\, Nevada. The SSCC in September is our classic 90-mile\, one-way event\, with additional activities held in Ely\, and the SSCC awards banquet after-party is held at the historic Sam’s Town Casino Hotel in fabulous Las Vegas\, Nevada. \nSilver State Classic Challenge events are based on time\, speed\, and distance. Classes begin at 95 mph\, and increase in 5 mph increments up through the 160 mph class\, with a 170 mph\, 180 mph\, and an Unlimited\, top speed class. Vehicles start one at a time\, in one minute intervals against a GPS timing clock\, and attempt to break the beam at the finish line as close as possible to their speed class target time. First\, Second and Third place trophies are awarded to the Driver and Navigator/Co-driver in each class\, based on most accurate elapsed time targets achieved\, as measured by SSCC timing equipment. Trophies are also awarded to drivers of our companion One-Mile and Half-Mile Shootout events\, both held on race weekends in conjunction with our Open Road Racing events. \nSilver State Classic Challenge events are open to anyone 18 years of age or older with a valid driver’s license and a roadworthy vehicle\, providing the driver\, navigator\, car and safety gear all pass a safety technical inspection. Please see our rule book on this site for further details. All entrants will receive a set of course notes and a pre-race DVD to help them prepare for their event. \nAll first-time Silver State Classic Challenge participants are considered rookies\, and may enter classes ranging from 95 mph up to 110 mph\, determined by their vehicle capabilities and safety equipment\, and each Driver and Navigator/Co-Driver’s comfort level. All rookies must also attend a Silver State Classic Challenge rookie driver school. Those with documented Open Road Racing or other equivalent racing experience\, or those who hold racing licenses from select sanctioned racing bodies\, may be eligible to obtain a waiver from rookie school. Please see our rule book for details\, and contact us to submit qualifications to our Silver State Classic Challenge Race Director for rookie school waiver requests. \nFor Silver State Classic Challenge rookies\, the event begins on Thursday of race weekend in Las Vegas\, Nevada\, with a practice session and qualifying rookie school at SPEEDVEGAS\, located just South of the Las Vegas Strip. An Silver State Classic Challenge prescribed classroom introduction is followed by an exhilarating high-performance driving session\, where rookies will complete laps on the road course in exotic cars from SPEEDVEGAS fleet. It’s some of the most fun you’ll ever have while going to school! \nDuring the NORC event in May\, registration packet pickup will be held in Ely\, Nevada. For the Silver State Classic Challenge event in September\, registration will be held at Sam’s Town Casino and Hotel in Las Vegas\, along with a technical inspection session. There is a Press Conference/Luncheon open to all participants\, crews\, Ham radio operators\, and course workers of Silver State Classic Challenge events. Following after the luncheon\, a caravan of participants will depart for a fun drive to Ely\, roughly 240 miles North of Las Vegas\, with a pit stop in Ash Springs for refueling and snacks. Along the way\, rookies in the caravan will have a chance to preview the course\, and ask questions about the road. Upon arrival in Ely\, there will be an evening welcome party and pub crawl. \nFor drivers who want to test their cars at speed\, or perform final tuning and reliability checks before the Open Road Race on Sunday\, Silver State Classic Challenge offers Half-Mile and One-Mile Shootout events on Friday morning on Nevada Highway 490\, just North of Ely. All Shootout participants pay an additional fee at registration\, and must pass a formal technical inspection prior to running in these events. Participants will be allowed three runs down the closed highway\, with their highest speed of three runs scoring towards potentially winning 1st\, 2nd\, and 3rd place trophies. \nFriday morning registration packet pickup and technical inspection is open for all Shootout participants\, and to all competitors immediately after the Shootout participants are processed. Later in the day\, a parade of cars will take place on Main Street to give the citizens of Ely a chance to see and hear the competitor cars\, and to give the kids of Ely a chance to catch some candy\, or even a ride along in your car\, if you have room to let them tag along. An Silver State Classic Challenge welcome reception awaits all participants and their crews immediately following the parade. For the more adventurous\, the annual SSCC Hooker’s Choice Awards Car Show is held Friday night at the famous Stardust Ranch\, where prizes can be won\, and shenanigans go well into the night. \nSaturday morning is the annual charity pancake breakfast\, SSCC car show\, and a final technical inspection session\, all held in the city park. Teams often host their lunch and strategy meetings during the afternoon\, and many participants do final vehicle and gear prep before the big race. Saturday evening there is a mandatory Driver and Navigator/Co-Driver meeting\, and then it’s off to individual dinner plans and a rare early night\, because the Open Road Racing event starts first thing Sunday morning on Highway 318\, South of Ely. \nSSCC Open Road Racing events always begin promptly at 8 AM on the third Sunday of May (NORC) and September (SSCC)\, although you’ll find yourself on the road by 6 AM to make it to pre-grid in Lund by 6:30 AM\, and then onto the final starting grid beginning at 7 AM. The first car will start down Highway 318 at 8 AM sharp\, and cars will launch one minute apart\, in order of faster speed classes to slower\, and drive off down 318 towards the thrill of victory\, or the agony of defeat. \nThe grand finale takes place Sunday evening with an Awards Banquet in Las Vegas\, during which cocktails and dinner are enjoyed. Tales of amazing feats related to tearing open the space-time continuum\, hilarious navigator hijinks\, and countless stopwatch shenanigans will be told in a way only Silver State Classic Challenge veterans can share\, as the highly anticipated announcements of who bested the time clock to win\, place\, or show in each speed class are read aloud. Shock\, awe\, tears of joy\, and the taste of cake are all but guaranteed to one and all. \nBest of all\, reasonable entry fees put these events within the reach of almost anyone with a vehicle and a passion for racing who would like to test the performance of their car\, stopwatch\, and driving skills. Some of the best car people you’ll ever meet will be on hand for these events\, ranging from true racing rookies and track day warriors\, to occasional major series racers\, TV star car nuts\, and many up and coming driving talents within their own right. We host them all! \nFor over 30 years\, Silver State Classic Challenge events have been featured on the pages of many popular car magazines\, such as Road and Track\, Car and Driver\, and Hot Rod Magazine\, just to name a few. We’ve also appeared on major television networks\, including many popular automotive shows on ESPN\, Fox Sports\, SPEED Channel\, Mav TV\, and others. Of course\, we’re all over YouTube on many popular channels\, and some not so well known pages\, too. Search for Silver State Classic Challenge to uncover many hair-raising videos (though we don’t condone them all). \nIf you have ever wondered what it would be like to drive your car as fast as you can handle over 90-120 miles of closed highway\, or have always wanted to participate in a high speed auto rally or Open Road Racing event\, there is no better place to find out what it’s like than on Nevada Highway 318. Best of all\, the local Sheriff will smile and wave at you as you pass him by doing 165 in a 70. Where else can you get that rush of constant speed for that long or a distance without risking life\, limb\, and your driver’s license? Go to SSCC.US to register for one of our events today\, and come experience the automotive rush of a lifetime with us on Nevada 318. \nWe hope to see you racing with us soon down the Silver State Classic Challenge Highway! \nDiscover more White Pine Events by Clicking HERE!
URL:https://elynevada.net/event/silver-state-classic-challenge-2020/
LOCATION:Ely\, NV\, 89301\, United States
CATEGORIES:History,Races,Sports
ATTACH;FMTTYPE=image/jpeg:https://elynevada.net/wp-content/uploads/2018/09/pgcffcf-Gary-Innocenti-2001-Chevrolet-Corvette-Silver-State-Classic-Challenge-2012.jpg
ORGANIZER;CN="Silver State Classic Challenge Inc.":MAILTO:sscc.us@gmail.com
END:VEVENT
BEGIN:VEVENT
DTSTART;TZID=UTC:20200912T080000
DTEND;TZID=UTC:20200912T130000
DTSTAMP:20260424T173930
CREATED:20200228T095129Z
LAST-MODIFIED:20200904T010512Z
UID:10000343-1599897600-1599915600@elynevada.net
SUMMARY:Race the Rails - 2020 #RideElyNV
DESCRIPTION:Race the Rails – 2020\nThis event is committed to taking any and all necessary steps to maintain the\nhealth and safety of both our Guests and Team Members.\nFor Our Operating Plan and Safety Measures For Covid-19 Click HERE\nThe steam locomotive and the bicycle were invented nearly 10 years apart. Both changed the way we travel\, but which will prevail on September 12 at the Race The Rails – 2020? \nAt the sound of the train whistle\, mountain and road bikers race to see who can get back to the depot before the train. \nMountain bikers test their speed and agility on a challenging 10 mile course through the beautiful mountains surrounding Ely\, while road bikers prove their speed and endurance on a 25 mile course along roads and highways in the area. Everyone who finishes the course will receive a finisher’s medal. \nThis is not a regular race against time\, or your fellow riders. It’s a race against one of histories most powerful inventions! It’s Race the Rails – 2020! \nTickets and additional info can be found here! \nSee what Ely offers in lodging by clicking here! \nWe are a remote mountain town of 4\,000 where history\, art\, and outdoor adventure run deep. In the nearby Great Basin National Park\, travelers have the chance to descend into the depths of the Lehman Cave system to explore a series of limestone and marble caverns full of huge stalagmites and other wild rock formations. The park is also home to the snow-capped Wheeler Peak which\, at 13\,000 feet\, is the second-tallest mountain in Nevada.
URL:https://elynevada.net/event/race-the-rails-2020-rideelynv/
LOCATION:Ely\, NV\, 89301\, United States
CATEGORIES:Community,History,Races,Sports
ATTACH;FMTTYPE=image/jpeg:https://elynevada.net/wp-content/uploads/2018/11/train-bikes.jpg
END:VEVENT
BEGIN:VEVENT
DTSTART;VALUE=DATE:20200613
DTEND;VALUE=DATE:20200614
DTSTAMP:20260424T173930
CREATED:20200226T070652Z
LAST-MODIFIED:20200226T070730Z
UID:10000340-1592006400-1592092799@elynevada.net
SUMMARY:Christian Motorcyclists Association Ride Through
DESCRIPTION:Get ready for the Christian Motorcyclists Association Ride Through of Ely\, Nevada this upcoming June 13th. All info about the Christian Motorcyclists Association can be found below. Additional information\, including how to contact\, can be found on their website. \n\n\n\nThe Christian Motorcyclists Association is interdenominational and evangelistic in nature. Collectively\, the states work together to spread the Gospel of Jesus Christ throughout the United States. Each state is in one of 6 regions and works under the leadership of a State Coordinator who is assisted by Area Representatives. Chapters are spread throughout the state\, and Chapter leadership works closely with State leadership to spread the Gospel of Jesus Christ throughout the motorcycling community and around the world.\n\n\n\n\nLooking for Lodging for this Ride Through? Check it out here! \n\nChristian Motorcyclists Association \nVision: Changing the world\, one heart at a time. \nWe will accomplish our vision through: \n\n\nEvangelism outreach primarily\, but not exclusively\,\nto the motorcycling community.\nRun for the Son\, where we will partner with ministries\nwith world-reaching potential.\nEquipping our members in ministry training that aligns\nitself with Biblical truths.\nA servant’s attitude to the world and to our members\n(i.e.\, Here if you need us).\nQuality products that aid in evangelistic outreach.\nAn effective WorkCenter support team.\n\n\nMission:\nTo inspire our leaders and members to be the most organized\, advanced\, equipped\, financially stable organization\, full of integrity in the motorcycling industry and the kingdom of God.
URL:https://elynevada.net/event/christian-motorcyclists-association-ride-through/
LOCATION:Ely\, NV\, 89301\, United States
CATEGORIES:Arts & Culture
ATTACH;FMTTYPE=image/jpeg:https://elynevada.net/wp-content/uploads/2020/02/Christian-Motorcycle-Association-CMA.jpg
END:VEVENT
BEGIN:VEVENT
DTSTART;VALUE=DATE:20200512
DTEND;VALUE=DATE:20200518
DTSTAMP:20260424T173930
CREATED:20200212T081735Z
LAST-MODIFIED:20200319T235201Z
UID:10000237-1589241600-1589759999@elynevada.net
SUMMARY:Nevada Open Road Challenge
DESCRIPTION:CANCELLED\n www.SSCC.us
URL:https://elynevada.net/event/nevada-open-road-challenge/
LOCATION:Ely\, NV\, 89301\, United States
CATEGORIES:History,Races,Sports
ATTACH;FMTTYPE=image/jpeg:https://elynevada.net/wp-content/uploads/2020/02/RLT-Cover-Nevada-Open-Road-Challenge-1000x288-1.jpg
ORGANIZER;CN="Silver State Classic Challenge Inc.":MAILTO:sscc.us@gmail.com
END:VEVENT
BEGIN:VEVENT
DTSTART;TZID=UTC:20200425T070000
DTEND;TZID=UTC:20200425T170000
DTSTAMP:20260424T173930
CREATED:20200305T075544Z
LAST-MODIFIED:20200317T060530Z
UID:10000255-1587798000-1587834000@elynevada.net
SUMMARY:Ely Rotary Turkey Shoot
DESCRIPTION:Ely Rotary Turkey Shoot Postponed Until Further Notice\nThe Ely Rotary club is putting on their Ely Rotary Turkey Shoot this April 25th! Join them by following all the information on the poster\, including where to buy tickets\, prizes\, and all that a ticket includes. Check in will be at the Friday the 24th before the Bristlecone Convention Center during the Jagertown Concert (concert ticket included in registration for this event). See you here! \nNeeding a place to stay for the Ely Rotary Turkey Shoot? Try clicking here! Tickets for the event here and search for Ely Rotary Turkey Shoot.
URL:https://elynevada.net/event/ely-rotary-turkey-shoot/
LOCATION:Ely\, NV\, 89301\, United States
CATEGORIES:Community,Sports
ATTACH;FMTTYPE=image/jpeg:https://elynevada.net/wp-content/uploads/2020/03/Turkey-Shoot-poster2-scaled.jpg
ORGANIZER;CN="Ely Rotary Club":MAILTO:elyrotary@gmail.com
END:VEVENT
END:VCALENDAR