BEGIN:VCALENDAR
VERSION:2.0
PRODID:-//Welcome To Ely - ECPv6.15.20//NONSGML v1.0//EN
CALSCALE:GREGORIAN
METHOD:PUBLISH
X-WR-CALNAME:Welcome To Ely
X-ORIGINAL-URL:https://elynevada.net
X-WR-CALDESC:Events for Welcome To Ely
REFRESH-INTERVAL;VALUE=DURATION:PT1H
X-Robots-Tag:noindex
X-PUBLISHED-TTL:PT1H
BEGIN:VTIMEZONE
TZID:America/Los_Angeles
BEGIN:DAYLIGHT
TZOFFSETFROM:-0800
TZOFFSETTO:-0700
TZNAME:PDT
DTSTART:20240310T100000
END:DAYLIGHT
BEGIN:STANDARD
TZOFFSETFROM:-0700
TZOFFSETTO:-0800
TZNAME:PST
DTSTART:20241103T090000
END:STANDARD
BEGIN:DAYLIGHT
TZOFFSETFROM:-0800
TZOFFSETTO:-0700
TZNAME:PDT
DTSTART:20250309T100000
END:DAYLIGHT
BEGIN:STANDARD
TZOFFSETFROM:-0700
TZOFFSETTO:-0800
TZNAME:PST
DTSTART:20251102T090000
END:STANDARD
BEGIN:DAYLIGHT
TZOFFSETFROM:-0800
TZOFFSETTO:-0700
TZNAME:PDT
DTSTART:20260308T100000
END:DAYLIGHT
BEGIN:STANDARD
TZOFFSETFROM:-0700
TZOFFSETTO:-0800
TZNAME:PST
DTSTART:20261101T090000
END:STANDARD
BEGIN:DAYLIGHT
TZOFFSETFROM:-0800
TZOFFSETTO:-0700
TZNAME:PDT
DTSTART:20270314T100000
END:DAYLIGHT
BEGIN:STANDARD
TZOFFSETFROM:-0700
TZOFFSETTO:-0800
TZNAME:PST
DTSTART:20271107T090000
END:STANDARD
END:VTIMEZONE
BEGIN:VEVENT
DTSTART;TZID=America/Los_Angeles:20260222T100000
DTEND;TZID=America/Los_Angeles:20260222T160000
DTSTAMP:20260424T094822
CREATED:20260202T193008Z
LAST-MODIFIED:20260202T193009Z
UID:10004976-1771754400-1771776000@elynevada.net
SUMMARY:Women's Group Hike
DESCRIPTION:Women’s Group Hike\nSun\, Feb. 22nd: 10am. \nMeet at Ward Charcoal Ovens State Park\, Ely\, NV. \n$5 per vehicle. Bring water\, trail snacks & a friend! Post-hike lunch at La Fiesta Restaurant in Ely. \nThe Sisterhood of the Traveling Orange Chair celebrates the adventurous spirit within us and the outdoor adventures that connect us.
URL:https://elynevada.net/event/womens-group-hike/
LOCATION:Ward Charcoal Ovens State Park\, United States
CATEGORIES:Community
ATTACH;FMTTYPE=image/jpeg:https://elynevada.net/wp-content/uploads/2026/02/Womens-Group-Hike-February-2026.jpg
ORGANIZER;CN="Bristlecone General Store":MAILTO:stay@stargazernevada.com
END:VEVENT
BEGIN:VEVENT
DTSTART;TZID=America/Los_Angeles:20250620T210000
DTEND;TZID=America/Los_Angeles:20250620T230000
DTSTAMP:20260424T094822
CREATED:20250605T192014Z
LAST-MODIFIED:20250609T174841Z
UID:10004027-1750453200-1750460400@elynevada.net
SUMMARY:In Real Light Projection Art
DESCRIPTION:In Real Light Projection Art\nMark your calendars for multiple dates this month for In Real Light Projection Art! Witness White Pine County from a different lens with projection art on historic buildings throughout the county. \nThese are unique art exhibitions and social events made to be seen in person! \nDates and Locations: \nJune 13th\, 9:00pm – Ely Renaissance Village \nJune 20th\, 9:00pm – Ward Charcoal Ovens \nJune 27th\, 9:00pm – Stargazer Inn\, Baker \nJuly 5th\, 9:00pm – Nevada Northern Railway \nThese projection art events are designed and provided by artist and curator Brett Phares of aweStruct. \nAbout Brett Phares: \naweStruct was founded by Brett Phares\, an artist and curator working in immersive art and the built environment. With over 20 years in interactive media\, he’s led projects globally and co-founded the acclaimed Digital Graffiti festival. He holds advanced degrees from Hunter College\, Stony Brook University\, and has pursued studies in innovation and public health at MIT Sloan and Harvard Medical School\, highlighting his expertise in cultural experience design and community wellbeing. \n \n  \nFollow Updates\, Details\, and Videos About these events on our Facebook HERE!\n\nWe're Planning a 4-Day Independence Festival for July! Learn More About Red\, White Pine\, and Blue HERE!
URL:https://elynevada.net/event/in-real-light-projection-art-2/
LOCATION:Ward Charcoal Ovens State Park\, United States
CATEGORIES:Arts & Culture,Community
ATTACH;FMTTYPE=image/jpeg:https://elynevada.net/wp-content/uploads/2025/06/In-Real-Light-Ward-Charcoal-Ovens-Event-Cover.jpg
ORGANIZER;CN="White PIne County Tourism and Recreation":MAILTO:nicole.collard@elynevada.net
END:VEVENT
END:VCALENDAR